BEGIN:VCALENDAR
METHOD:PUBLISH
PRODID:-//doubleknot.com//CalenderEvent MIMEDIR//EN
VERSION:2.0
BEGIN:VEVENT
UID:3143552-20260622T160000Z-20260622T190000Z@doubleknot.com
CREATED:20260414T162114Z
LAST-MODIFIED:20260414T162114Z
DTSTAMP:20260419T134706Z
DTSTART:20260622T160000Z
DTEND:20260622T190000Z
LOCATION:One Arts Festival Plaza, El Paso, TX 79901, US
CATEGORIES:
DESCRIPTION:Textile art is a creative medium of expression for artists who work with fibers, fabrics and threads to craft visually and tactilely engaging works. In this camp, the focus will be Hand embroidery, a wonderful skill for kids to learn. It&rsquo;s a creative and quiet activity that also helps them strengthen hand-eye coordination and improve fine motor skills. \n  \n  \n   \n  \n  \n In this class, kids will learn: \n  \n  \n - Safety measures to work with sharp objects like needles and scissors. \n  \n  \n - Materials used for hand embroidery. \n  \n  \n - Basic stitching techniques like running stitch, back running stitch, blanket stitch, satin stitch and lazy daisy stitch. \n  \n  \n - How to create a pattern and prepare a hand embroidery hoop. \n  \n  \n - How to hand stitch a plushie. \n  \n  \n - How to hand stitch a bookmark. \n 
SUMMARY:Summer Week 1: Textile Art June 22nd to June 26th
PRIORITY:5
BEGIN:VALARM
TRIGGER:PT15M
ACTION:DISPLAY
DESCRIPTION:Reminder
PRIORITY:5
END:VALARM
END:VEVENT
BEGIN:VEVENT
UID:3143552-20260623T160000Z-20260623T190000Z@doubleknot.com
CREATED:20260414T162114Z
LAST-MODIFIED:20260414T162114Z
DTSTAMP:20260419T134706Z
DTSTART:20260623T160000Z
DTEND:20260623T190000Z
LOCATION:One Arts Festival Plaza, El Paso, TX 79901, US
CATEGORIES:
DESCRIPTION:Textile art is a creative medium of expression for artists who work with fibers, fabrics and threads to craft visually and tactilely engaging works. In this camp, the focus will be Hand embroidery, a wonderful skill for kids to learn. It&rsquo;s a creative and quiet activity that also helps them strengthen hand-eye coordination and improve fine motor skills. \n  \n  \n   \n  \n  \n In this class, kids will learn: \n  \n  \n - Safety measures to work with sharp objects like needles and scissors. \n  \n  \n - Materials used for hand embroidery. \n  \n  \n - Basic stitching techniques like running stitch, back running stitch, blanket stitch, satin stitch and lazy daisy stitch. \n  \n  \n - How to create a pattern and prepare a hand embroidery hoop. \n  \n  \n - How to hand stitch a plushie. \n  \n  \n - How to hand stitch a bookmark. \n 
SUMMARY:Summer Week 1: Textile Art June 22nd to June 26th
PRIORITY:5
BEGIN:VALARM
TRIGGER:PT15M
ACTION:DISPLAY
DESCRIPTION:Reminder
PRIORITY:5
END:VALARM
END:VEVENT
BEGIN:VEVENT
UID:3143552-20260624T160000Z-20260624T190000Z@doubleknot.com
CREATED:20260414T162114Z
LAST-MODIFIED:20260414T162114Z
DTSTAMP:20260419T134706Z
DTSTART:20260624T160000Z
DTEND:20260624T190000Z
LOCATION:One Arts Festival Plaza, El Paso, TX 79901, US
CATEGORIES:
DESCRIPTION:Textile art is a creative medium of expression for artists who work with fibers, fabrics and threads to craft visually and tactilely engaging works. In this camp, the focus will be Hand embroidery, a wonderful skill for kids to learn. It&rsquo;s a creative and quiet activity that also helps them strengthen hand-eye coordination and improve fine motor skills. \n  \n  \n   \n  \n  \n In this class, kids will learn: \n  \n  \n - Safety measures to work with sharp objects like needles and scissors. \n  \n  \n - Materials used for hand embroidery. \n  \n  \n - Basic stitching techniques like running stitch, back running stitch, blanket stitch, satin stitch and lazy daisy stitch. \n  \n  \n - How to create a pattern and prepare a hand embroidery hoop. \n  \n  \n - How to hand stitch a plushie. \n  \n  \n - How to hand stitch a bookmark. \n 
SUMMARY:Summer Week 1: Textile Art June 22nd to June 26th
PRIORITY:5
BEGIN:VALARM
TRIGGER:PT15M
ACTION:DISPLAY
DESCRIPTION:Reminder
PRIORITY:5
END:VALARM
END:VEVENT
BEGIN:VEVENT
UID:3143552-20260625T160000Z-20260625T190000Z@doubleknot.com
CREATED:20260414T162114Z
LAST-MODIFIED:20260414T162114Z
DTSTAMP:20260419T134706Z
DTSTART:20260625T160000Z
DTEND:20260625T190000Z
LOCATION:One Arts Festival Plaza, El Paso, TX 79901, US
CATEGORIES:
DESCRIPTION:Textile art is a creative medium of expression for artists who work with fibers, fabrics and threads to craft visually and tactilely engaging works. In this camp, the focus will be Hand embroidery, a wonderful skill for kids to learn. It&rsquo;s a creative and quiet activity that also helps them strengthen hand-eye coordination and improve fine motor skills. \n  \n  \n   \n  \n  \n In this class, kids will learn: \n  \n  \n - Safety measures to work with sharp objects like needles and scissors. \n  \n  \n - Materials used for hand embroidery. \n  \n  \n - Basic stitching techniques like running stitch, back running stitch, blanket stitch, satin stitch and lazy daisy stitch. \n  \n  \n - How to create a pattern and prepare a hand embroidery hoop. \n  \n  \n - How to hand stitch a plushie. \n  \n  \n - How to hand stitch a bookmark. \n 
SUMMARY:Summer Week 1: Textile Art June 22nd to June 26th
PRIORITY:5
BEGIN:VALARM
TRIGGER:PT15M
ACTION:DISPLAY
DESCRIPTION:Reminder
PRIORITY:5
END:VALARM
END:VEVENT
BEGIN:VEVENT
UID:3143552-20260626T160000Z-20260626T190000Z@doubleknot.com
CREATED:20260414T162114Z
LAST-MODIFIED:20260414T162114Z
DTSTAMP:20260419T134706Z
DTSTART:20260626T160000Z
DTEND:20260626T190000Z
LOCATION:One Arts Festival Plaza, El Paso, TX 79901, US
CATEGORIES:
DESCRIPTION:Textile art is a creative medium of expression for artists who work with fibers, fabrics and threads to craft visually and tactilely engaging works. In this camp, the focus will be Hand embroidery, a wonderful skill for kids to learn. It&rsquo;s a creative and quiet activity that also helps them strengthen hand-eye coordination and improve fine motor skills. \n  \n  \n   \n  \n  \n In this class, kids will learn: \n  \n  \n - Safety measures to work with sharp objects like needles and scissors. \n  \n  \n - Materials used for hand embroidery. \n  \n  \n - Basic stitching techniques like running stitch, back running stitch, blanket stitch, satin stitch and lazy daisy stitch. \n  \n  \n - How to create a pattern and prepare a hand embroidery hoop. \n  \n  \n - How to hand stitch a plushie. \n  \n  \n - How to hand stitch a bookmark. \n 
SUMMARY:Summer Week 1: Textile Art June 22nd to June 26th
PRIORITY:5
BEGIN:VALARM
TRIGGER:PT15M
ACTION:DISPLAY
DESCRIPTION:Reminder
PRIORITY:5
END:VALARM
END:VEVENT
END:VCALENDAR
